BEGIN:VCALENDAR
PRODID:-//eluceo/ical//2.0/EN
VERSION:2.0
CALSCALE:GREGORIAN
BEGIN:VEVENT
UID:hey.bayern.563217.6553446
DTSTAMP:20260420T163714Z
SUMMARY:Naturerlebnis Tscheppaschlucht
DTSTART;TZID=Europe/Berlin:20261002T093000
DTEND;TZID=Europe/Berlin:20261003T093000
URL;VALUE=URI:https://hey-traunstein.de/events/563217
END:VEVENT
END:VCALENDAR
