BEGIN:VCALENDAR
PRODID:-//eluceo/ical//2.0/EN
VERSION:2.0
CALSCALE:GREGORIAN
BEGIN:VEVENT
UID:hey.bayern.563215.6553436
DTSTAMP:20260420T163726Z
SUMMARY:Naturerlebnis Tscheppaschlucht
DTSTART;TZID=Europe/Berlin:20261030T091500
DTEND;TZID=Europe/Berlin:20261031T091500
URL;VALUE=URI:https://hey-traunstein.de/events/563215
END:VEVENT
END:VCALENDAR
