BEGIN:VCALENDAR
PRODID:-//eluceo/ical//2.0/EN
VERSION:2.0
CALSCALE:GREGORIAN
BEGIN:VEVENT
UID:hey.bayern.563215.6553435
DTSTAMP:20260420T163720Z
SUMMARY:Naturerlebnis Tscheppaschlucht
DTSTART;TZID=Europe/Berlin:20261023T091500
DTEND;TZID=Europe/Berlin:20261024T091500
URL;VALUE=URI:https://hey-traunstein.de/events/563215
END:VEVENT
END:VCALENDAR
