BEGIN:VCALENDAR
PRODID:-//eluceo/ical//2.0/EN
VERSION:2.0
CALSCALE:GREGORIAN
BEGIN:VEVENT
UID:hey.bayern.562980.6553425
DTSTAMP:20260420T162519Z
SUMMARY:Tages-Busfahrt: Ljubljana-Die grüne Hauptstadt Sloweniens
DTSTART;TZID=Europe/Berlin:20260929T100500
DTEND;TZID=Europe/Berlin:20260930T100500
URL;VALUE=URI:https://hey-traunstein.de/events/562980
END:VEVENT
END:VCALENDAR
