BEGIN:VCALENDAR
PRODID:-//eluceo/ical//2.0/EN
VERSION:2.0
CALSCALE:GREGORIAN
BEGIN:VEVENT
UID:hey.bayern.562979.6553414
DTSTAMP:20260420T162519Z
SUMMARY:Tages-Busfahrt: Ljubljana-Die grüne Hauptstadt Sloweniens
DTSTART;TZID=Europe/Berlin:20261020T094000
DTEND;TZID=Europe/Berlin:20261021T094000
URL;VALUE=URI:https://hey-traunstein.de/events/562979
END:VEVENT
END:VCALENDAR
