BEGIN:VCALENDAR
PRODID:-//eluceo/ical//2.0/EN
VERSION:2.0
CALSCALE:GREGORIAN
BEGIN:VEVENT
UID:hey.bayern.548056.6553343
DTSTAMP:20260420T010301Z
SUMMARY:Patrozinium St. Johannes\, Hl. Messe und Pfarrfest
DTSTART;TZID=Europe/Berlin:20260628T100000
DTEND;TZID=Europe/Berlin:20260629T100000
LOCATION:Marktstraße 10\, 87541 Bad Hindelang
GEO:47.506737;10.370890
X-APPLE-STRUCTURED-LOCATION;VALUE=URI;X-ADDRESS=Marktstraße 10\, 87541 Bad
  Hindelang;X-APPLE-RADIUS=49;X-TITLE=:geo:47.506737,10.370890
URL;VALUE=URI:https://hey-traunstein.de/events/548056
END:VEVENT
END:VCALENDAR
