BEGIN:VCALENDAR
PRODID:-//eluceo/ical//2.0/EN
VERSION:2.0
CALSCALE:GREGORIAN
BEGIN:VEVENT
UID:hey.bayern.547944.6552783
DTSTAMP:20260420T010302Z
SUMMARY:Bergmesse an der Horn-Alp mit dem Jodlerduett "Düesch mit"
DTSTART;TZID=Europe/Berlin:20260809T110000
DTEND;TZID=Europe/Berlin:20260810T110000
LOCATION:unterhalb der Bergstation Hornbahn\, 87541 Bad Hindelang
GEO:47.489608;10.366962
X-APPLE-STRUCTURED-LOCATION;VALUE=URI;X-ADDRESS=unterhalb der Bergstation H
 ornbahn\, 87541 Bad Hindelang;X-APPLE-RADIUS=49;X-TITLE=:geo:47.489608,10.
 366962
URL;VALUE=URI:https://hey-traunstein.de/events/547944
END:VEVENT
END:VCALENDAR
