BEGIN:VCALENDAR
PRODID:-//eluceo/ical//2.0/EN
VERSION:2.0
CALSCALE:GREGORIAN
BEGIN:VEVENT
UID:hey.bayern.547752.6205410
DTSTAMP:20260420T073812Z
SUMMARY:Mozart Klaviersonaten
DTSTART;TZID=Europe/Berlin:20261107T190000
DTEND;TZID=Europe/Berlin:20261107T235959
LOCATION:Judengasse 15\, 5020 Salzburg\, Österreich
GEO:47.799700;13.046313
X-APPLE-STRUCTURED-LOCATION;VALUE=URI;X-ADDRESS=Judengasse 15\, 5020 Salzbu
 rg\, Österreich;X-APPLE-RADIUS=49;X-TITLE=:geo:47.799700,13.046313
URL;VALUE=URI:https://hey-traunstein.de/events/547752
END:VEVENT
END:VCALENDAR
