BEGIN:VCALENDAR
PRODID:-//eluceo/ical//2.0/EN
VERSION:2.0
CALSCALE:GREGORIAN
BEGIN:VEVENT
UID:hey.bayern.545008.6551126
DTSTAMP:20260420T111153Z
SUMMARY:emsiana 2025 - Hohenemser Kulturfest
DTSTART;TZID=Europe/Berlin:20260523T100000
DTEND;TZID=Europe/Berlin:20260524T000000
LOCATION:Schlossplatz 1\, 6845 Hohenems\, Österreich
GEO:47.361920;9.688700
X-APPLE-STRUCTURED-LOCATION;VALUE=URI;X-ADDRESS=Schlossplatz 1\, 6845 Hohen
 ems\, Österreich;X-APPLE-RADIUS=49;X-TITLE=:geo:47.361920,9.688700
URL;VALUE=URI:https://hey-traunstein.de/events/545008
END:VEVENT
END:VCALENDAR
