BEGIN:VCALENDAR
PRODID:-//eluceo/ical//2.0/EN
VERSION:2.0
CALSCALE:GREGORIAN
BEGIN:VEVENT
UID:hey.bayern.490469.5067622
DTSTAMP:20260420T223551Z
SUMMARY:FIT-Gym - Fit-Aerobic mit Beate Holzgrefe M.A. Sportpädagogin
DTSTART;TZID=Europe/Berlin:20261207T160000
DTEND;TZID=Europe/Berlin:20261207T180000
LOCATION:Oberdorf 12\, 9863 Rennweg am Katschberg\, Österreich
GEO:47.035635;13.583390
X-APPLE-STRUCTURED-LOCATION;VALUE=URI;X-ADDRESS=Oberdorf 12\, 9863 Rennweg 
 am Katschberg\, Österreich;X-APPLE-RADIUS=49;X-TITLE=:geo:47.035635,13.58
 3390
URL;VALUE=URI:https://hey-traunstein.de/events/490469
END:VEVENT
END:VCALENDAR
