BEGIN:VCALENDAR
PRODID:-//eluceo/ical//2.0/EN
VERSION:2.0
CALSCALE:GREGORIAN
BEGIN:VEVENT
UID:hey.bayern.486106.6550905
DTSTAMP:20260420T023606Z
SUMMARY:Straßentheater der Salzburger Kuturvereinigung
DTSTART;TZID=Europe/Berlin:20260712T193000
DTEND;TZID=Europe/Berlin:20260712T235959
LOCATION:Dorfplatz 112\, 5531 Eben im Pongau\, Österreich
GEO:47.407172;13.395251
X-APPLE-STRUCTURED-LOCATION;VALUE=URI;X-ADDRESS=Dorfplatz 112\, 5531 Eben i
 m Pongau\, Österreich;X-APPLE-RADIUS=49;X-TITLE=:geo:47.407172,13.395251
URL;VALUE=URI:https://hey-traunstein.de/events/486106
END:VEVENT
END:VCALENDAR
