BEGIN:VCALENDAR
PRODID:-//eluceo/ical//2.0/EN
VERSION:2.0
CALSCALE:GREGORIAN
BEGIN:VEVENT
UID:hey.bayern.482837.6553184
DTSTAMP:20260420T065829Z
SUMMARY:Paneum
DTSTART;TZID=Europe/Berlin:20260520T100000
DTEND;TZID=Europe/Berlin:20260520T160000
LOCATION:Kornspitzstraße 1\, 4481 Asten\, Österreich
GEO:48.215737;14.409127
X-APPLE-STRUCTURED-LOCATION;VALUE=URI;X-ADDRESS=Kornspitzstraße 1\, 4481 A
 sten\, Österreich;X-APPLE-RADIUS=49;X-TITLE=:geo:48.215737,14.409127
URL;VALUE=URI:https://hey-traunstein.de/events/482837
END:VEVENT
END:VCALENDAR
