BEGIN:VCALENDAR
PRODID:-//eluceo/ical//2.0/EN
VERSION:2.0
CALSCALE:GREGORIAN
BEGIN:VEVENT
UID:hey.bayern.476124.6549014
DTSTAMP:20260420T175127Z
SUMMARY:Kräuterwanderung zur Stafel Alpe mit Christiane Martin
DTSTART;TZID=Europe/Berlin:20260827T090000
DTEND;TZID=Europe/Berlin:20260828T090000
URL;VALUE=URI:https://hey-traunstein.de/events/476124
END:VEVENT
END:VCALENDAR
