BEGIN:VCALENDAR
PRODID:-//eluceo/ical//2.0/EN
VERSION:2.0
CALSCALE:GREGORIAN
BEGIN:VEVENT
UID:hey.bayern.473289.6549241
DTSTAMP:20260420T210125Z
SUMMARY:Sonnwendfeuer im Panorama-Bergdorf
DTSTART;TZID=Europe/Berlin:20260621T190000
DTEND;TZID=Europe/Berlin:20260621T220000
URL;VALUE=URI:https://hey-traunstein.de/events/473289
END:VEVENT
END:VCALENDAR
