BEGIN:VCALENDAR
PRODID:-//eluceo/ical//2.0/EN
VERSION:2.0
CALSCALE:GREGORIAN
BEGIN:VEVENT
UID:hey.bayern.469165.6548773
DTSTAMP:20260420T055053Z
SUMMARY:Impro-Theater in der Kulturvilla
DTSTART;TZID=Europe/Berlin:20260702T183000
DTEND;TZID=Europe/Berlin:20260702T210000
LOCATION:Bahnhofstraße 13\, 4655 Vorchdorf\, Österreich
GEO:48.000725;13.921825
X-APPLE-STRUCTURED-LOCATION;VALUE=URI;X-ADDRESS=Bahnhofstraße 13\, 4655 Vo
 rchdorf\, Österreich;X-APPLE-RADIUS=49;X-TITLE=:geo:48.000725,13.921825
URL;VALUE=URI:https://hey-traunstein.de/events/469165
END:VEVENT
END:VCALENDAR
