BEGIN:VCALENDAR
PRODID:-//eluceo/ical//2.0/EN
VERSION:2.0
CALSCALE:GREGORIAN
BEGIN:VEVENT
UID:hey.bayern.436194.6546412
DTSTAMP:20260421T054215Z
SUMMARY:Fuschler Adventmarkt "Klein und Fein"
DTSTART;TZID=Europe/Berlin:20261226T150000
DTEND;TZID=Europe/Berlin:20261226T200000
LOCATION:5330 Fuschl am See\, Österreich
GEO:47.796161;13.302873
X-APPLE-STRUCTURED-LOCATION;VALUE=URI;X-ADDRESS=5330 Fuschl am See\, Öster
 reich;X-APPLE-RADIUS=49;X-TITLE=:geo:47.796161,13.302873
URL;VALUE=URI:https://hey-traunstein.de/events/436194
END:VEVENT
END:VCALENDAR
