BEGIN:VCALENDAR
PRODID:-//eluceo/ical//2.0/EN
VERSION:2.0
CALSCALE:GREGORIAN
BEGIN:VEVENT
UID:hey.bayern.424574.6550450
DTSTAMP:20260420T115027Z
SUMMARY:Werzers Food Market
DTSTART;TZID=Europe/Berlin:20261016T170000
DTEND;TZID=Europe/Berlin:20261016T210000
LOCATION:Werzerpormenade 8\, 9210 Pörtschach am Wörthersee\, Österreich
URL;VALUE=URI:https://hey-traunstein.de/events/424574
END:VEVENT
END:VCALENDAR
