BEGIN:VCALENDAR
PRODID:-//eluceo/ical//2.0/EN
VERSION:2.0
CALSCALE:GREGORIAN
BEGIN:VEVENT
UID:hey.bayern.417020.6552576
DTSTAMP:20260420T090356Z
SUMMARY:Alpe Adria 3 Länder Tour
DTSTART;TZID=Europe/Berlin:20261029T065500
DTEND;TZID=Europe/Berlin:20261030T065500
LOCATION:Villacher Straße 19 / 1. Stock\, 9220 Velden\, Österreich
GEO:46.626542;14.222137
X-APPLE-STRUCTURED-LOCATION;VALUE=URI;X-ADDRESS=Villacher Straße 19 / 1. S
 tock\, 9220 Velden\, Österreich;X-APPLE-RADIUS=49;X-TITLE=:geo:46.626542,
 14.222137
URL;VALUE=URI:https://hey-traunstein.de/events/417020
END:VEVENT
END:VCALENDAR
