BEGIN:VCALENDAR
PRODID:-//eluceo/ical//2.0/EN
VERSION:2.0
CALSCALE:GREGORIAN
BEGIN:VEVENT
UID:hey.bayern.414998.6557282
DTSTAMP:20260425T110854Z
SUMMARY:Vernissage: POINT AND CLICK – Ausgewählte Fotoprojekte der Innvi
 ertler Künstlergilde
DTSTART;TZID=Europe/Berlin:20260603T200000
DTEND;TZID=Europe/Berlin:20260603T235900
LOCATION:Konviktstraße 8\, 4910 Ried im Innkreis\, Österreich
GEO:48.201963;13.494058
X-APPLE-STRUCTURED-LOCATION;VALUE=URI;X-ADDRESS=Konviktstraße 8\, 4910 Rie
 d im Innkreis\, Österreich;X-APPLE-RADIUS=49;X-TITLE=:geo:48.201963,13.49
 4058
URL;VALUE=URI:https://hey-traunstein.de/events/414998
END:VEVENT
END:VCALENDAR
