BEGIN:VCALENDAR
PRODID:-//eluceo/ical//2.0/EN
VERSION:2.0
CALSCALE:GREGORIAN
BEGIN:VEVENT
UID:hey.bayern.400451.6552948
DTSTAMP:20260420T111234Z
SUMMARY:Hüttenausflug mit dem E-Bike
DTSTART;TZID=Europe/Berlin:20260609T090000
DTEND;TZID=Europe/Berlin:20260609T120000
LOCATION:Moosstraße 7\, 6993 Mittelberg\, Österreich
GEO:47.322720;10.153245
X-APPLE-STRUCTURED-LOCATION;VALUE=URI;X-ADDRESS=Moosstraße 7\, 6993 Mittel
 berg\, Österreich;X-APPLE-RADIUS=49;X-TITLE=:geo:47.322720,10.153245
URL;VALUE=URI:https://hey-traunstein.de/events/400451
END:VEVENT
END:VCALENDAR
