BEGIN:VCALENDAR
PRODID:-//eluceo/ical//2.0/EN
VERSION:2.0
CALSCALE:GREGORIAN
BEGIN:VEVENT
UID:hey.bayern.392350.6552962
DTSTAMP:20260420T112843Z
SUMMARY:E-Bike-Genuss für Fortgeschrittene
DTSTART;TZID=Europe/Berlin:20260611T093000
DTEND;TZID=Europe/Berlin:20260611T143000
LOCATION:Walserstraße 73\, 6991 Riezlern\, Österreich
GEO:47.356738;10.185229
X-APPLE-STRUCTURED-LOCATION;VALUE=URI;X-ADDRESS=Walserstraße 73\, 6991 Rie
 zlern\, Österreich;X-APPLE-RADIUS=49;X-TITLE=:geo:47.356738,10.185229
URL;VALUE=URI:https://hey-traunstein.de/events/392350
END:VEVENT
END:VCALENDAR
