BEGIN:VCALENDAR
PRODID:-//eluceo/ical//2.0/EN
VERSION:2.0
CALSCALE:GREGORIAN
BEGIN:VEVENT
UID:hey.bayern.391882.4741162
DTSTAMP:20260420T082220Z
SUMMARY:Dorfbücherei hat geöffnet
DTSTART;TZID=Europe/Berlin:20260522T153000
DTEND;TZID=Europe/Berlin:20260522T183000
LOCATION:Dorf 157\, 6943 Riefensberg\, Österreich
URL;VALUE=URI:https://hey-traunstein.de/events/391882
END:VEVENT
END:VCALENDAR
