BEGIN:VCALENDAR
PRODID:-//eluceo/ical//2.0/EN
VERSION:2.0
CALSCALE:GREGORIAN
BEGIN:VEVENT
UID:hey.bayern.391882.4741056
DTSTAMP:20260420T082355Z
SUMMARY:Dorfbücherei hat geöffnet
DTSTART;TZID=Europe/Berlin:20260501T083000
DTEND;TZID=Europe/Berlin:20260501T103000
LOCATION:Dorf 157\, 6943 Riefensberg\, Österreich
URL;VALUE=URI:https://hey-traunstein.de/events/391882
END:VEVENT
END:VCALENDAR
