BEGIN:VCALENDAR
PRODID:-//eluceo/ical//2.0/EN
VERSION:2.0
CALSCALE:GREGORIAN
BEGIN:VEVENT
UID:hey.bayern.339078.6549383
DTSTAMP:20260420T175121Z
SUMMARY:Premiere des Theaterwagens des Ensemble Porcia in Gmünd
DTSTART;TZID=Europe/Berlin:20260601T180000
DTEND;TZID=Europe/Berlin:20260601T190000
URL;VALUE=URI:https://hey-traunstein.de/events/339078
END:VEVENT
END:VCALENDAR
