BEGIN:VCALENDAR
PRODID:-//eluceo/ical//2.0/EN
VERSION:2.0
CALSCALE:GREGORIAN
BEGIN:VEVENT
UID:hey.bayern.337618.6553726
DTSTAMP:20260421T134455Z
SUMMARY:Mercato Italiano - Italienischer Markt
DTSTART;TZID=Europe/Berlin:20260523T090000
DTEND;TZID=Europe/Berlin:20260523T210000
LOCATION:Marktplatz\, Kirchenplatz\, 5310 Mondsee am Mondsee\, Österreich
GEO:47.855740;13.350810
X-APPLE-STRUCTURED-LOCATION;VALUE=URI;X-ADDRESS=Marktplatz\, Kirchenplatz\,
  5310 Mondsee am Mondsee\, Österreich;X-APPLE-RADIUS=49;X-TITLE=:geo:47.8
 55740,13.350810
URL;VALUE=URI:https://hey-traunstein.de/events/337618
END:VEVENT
END:VCALENDAR
