BEGIN:VCALENDAR
PRODID:-//eluceo/ical//2.0/EN
VERSION:2.0
CALSCALE:GREGORIAN
BEGIN:VEVENT
UID:hey.bayern.332608.6552569
DTSTAMP:20260420T090354Z
SUMMARY:Busfahrt: Triest - Schmelztiegel von Kulturen und Religionen
DTSTART;TZID=Europe/Berlin:20261029T072500
DTEND;TZID=Europe/Berlin:20261029T192500
LOCATION:Villacher Straße\, 9220 Velden am Wörthersee\, Österreich
GEO:46.613597;14.039022
X-APPLE-STRUCTURED-LOCATION;VALUE=URI;X-ADDRESS=Villacher Straße\, 9220 Ve
 lden am Wörthersee\, Österreich;X-APPLE-RADIUS=49;X-TITLE=:geo:46.613597
 ,14.039022
URL;VALUE=URI:https://hey-traunstein.de/events/332608
END:VEVENT
END:VCALENDAR
